BEGIN:VCALENDAR
VERSION:2.0
PRODID:-//ARNI - ECPv6.15.20//NONSGML v1.0//EN
CALSCALE:GREGORIAN
METHOD:PUBLISH
X-ORIGINAL-URL:https://arni-institute.org
X-WR-CALDESC:Events for ARNI
REFRESH-INTERVAL;VALUE=DURATION:PT1H
X-Robots-Tag:noindex
X-PUBLISHED-TTL:PT1H
BEGIN:VTIMEZONE
TZID:America/New_York
BEGIN:DAYLIGHT
TZOFFSETFROM:-0500
TZOFFSETTO:-0400
TZNAME:EDT
DTSTART:20240310T070000
END:DAYLIGHT
BEGIN:STANDARD
TZOFFSETFROM:-0400
TZOFFSETTO:-0500
TZNAME:EST
DTSTART:20241103T060000
END:STANDARD
BEGIN:DAYLIGHT
TZOFFSETFROM:-0500
TZOFFSETTO:-0400
TZNAME:EDT
DTSTART:20250309T070000
END:DAYLIGHT
BEGIN:STANDARD
TZOFFSETFROM:-0400
TZOFFSETTO:-0500
TZNAME:EST
DTSTART:20251102T060000
END:STANDARD
BEGIN:DAYLIGHT
TZOFFSETFROM:-0500
TZOFFSETTO:-0400
TZNAME:EDT
DTSTART:20260308T070000
END:DAYLIGHT
BEGIN:STANDARD
TZOFFSETFROM:-0400
TZOFFSETTO:-0500
TZNAME:EST
DTSTART:20261101T060000
END:STANDARD
END:VTIMEZONE
BEGIN:VEVENT
DTSTART;TZID=America/New_York:20250227T130000
DTEND;TZID=America/New_York:20250227T140000
DTSTAMP:20260424T150739
CREATED:20250221T155402Z
LAST-MODIFIED:20250221T165304Z
UID:1511-1740661200-1740664800@arni-institute.org
SUMMARY:ARNI Continual Learning Project
DESCRIPTION:Followup to discussion in Meeting 1 \nZoom Link: https://columbiauniversity.zoom.us/j/97176853843?pwd=VLZdh6yqHBcOQhdf816lkN5ByIpIsF.1 \n  \n  \n 
URL:https://arni-institute.org/event/arni-continual-learning-project/
LOCATION:CEPSR 620\, Schapiro 530 W. 120th St
END:VEVENT
END:VCALENDAR