BEGIN:VCALENDAR
VERSION:2.0
PRODID:-//ARNI - ECPv6.15.20//NONSGML v1.0//EN
CALSCALE:GREGORIAN
METHOD:PUBLISH
X-ORIGINAL-URL:https://arni-institute.org
X-WR-CALDESC:Events for ARNI
REFRESH-INTERVAL;VALUE=DURATION:PT1H
X-Robots-Tag:noindex
X-PUBLISHED-TTL:PT1H
BEGIN:VTIMEZONE
TZID:America/New_York
BEGIN:DAYLIGHT
TZOFFSETFROM:-0500
TZOFFSETTO:-0400
TZNAME:EDT
DTSTART:20240310T070000
END:DAYLIGHT
BEGIN:STANDARD
TZOFFSETFROM:-0400
TZOFFSETTO:-0500
TZNAME:EST
DTSTART:20241103T060000
END:STANDARD
BEGIN:DAYLIGHT
TZOFFSETFROM:-0500
TZOFFSETTO:-0400
TZNAME:EDT
DTSTART:20250309T070000
END:DAYLIGHT
BEGIN:STANDARD
TZOFFSETFROM:-0400
TZOFFSETTO:-0500
TZNAME:EST
DTSTART:20251102T060000
END:STANDARD
BEGIN:DAYLIGHT
TZOFFSETFROM:-0500
TZOFFSETTO:-0400
TZNAME:EDT
DTSTART:20260308T070000
END:DAYLIGHT
BEGIN:STANDARD
TZOFFSETFROM:-0400
TZOFFSETTO:-0500
TZNAME:EST
DTSTART:20261101T060000
END:STANDARD
END:VTIMEZONE
BEGIN:VEVENT
DTSTART;TZID=America/New_York:20250404T150000
DTEND;TZID=America/New_York:20250404T170000
DTSTAMP:20260424T121658
CREATED:20250321T134811Z
LAST-MODIFIED:20250421T155950Z
UID:1581-1743778800-1743786000@arni-institute.org
SUMMARY:ARNI Distinguished Seminar Series: Eftychios A. Pnevmatikakis\, Research Scientist\, Reality labs at Meta
DESCRIPTION:Research Scientist\, Reality labs at Meta \nTitle: TBD \nLocation: TBD \nAbstract: TBD
URL:https://arni-institute.org/event/arni-distinguished-seminar-series-eftychios-a-pnevmatikakis/
ORGANIZER;CN="ARNI":MAILTO:arni@columbia.edu
END:VEVENT
END:VCALENDAR