BEGIN:VCALENDAR
VERSION:2.0
PRODID:-//ARNI - ECPv6.15.20//NONSGML v1.0//EN
CALSCALE:GREGORIAN
METHOD:PUBLISH
X-ORIGINAL-URL:https://arni-institute.org
X-WR-CALDESC:Events for ARNI
REFRESH-INTERVAL;VALUE=DURATION:PT1H
X-Robots-Tag:noindex
X-PUBLISHED-TTL:PT1H
BEGIN:VTIMEZONE
TZID:America/New_York
BEGIN:DAYLIGHT
TZOFFSETFROM:-0500
TZOFFSETTO:-0400
TZNAME:EDT
DTSTART:20250309T070000
END:DAYLIGHT
BEGIN:STANDARD
TZOFFSETFROM:-0400
TZOFFSETTO:-0500
TZNAME:EST
DTSTART:20251102T060000
END:STANDARD
BEGIN:DAYLIGHT
TZOFFSETFROM:-0500
TZOFFSETTO:-0400
TZNAME:EDT
DTSTART:20260308T070000
END:DAYLIGHT
BEGIN:STANDARD
TZOFFSETFROM:-0400
TZOFFSETTO:-0500
TZNAME:EST
DTSTART:20261101T060000
END:STANDARD
BEGIN:DAYLIGHT
TZOFFSETFROM:-0500
TZOFFSETTO:-0400
TZNAME:EDT
DTSTART:20270314T070000
END:DAYLIGHT
BEGIN:STANDARD
TZOFFSETFROM:-0400
TZOFFSETTO:-0500
TZNAME:EST
DTSTART:20271107T060000
END:STANDARD
END:VTIMEZONE
BEGIN:VEVENT
DTSTART;TZID=America/New_York:20260330T150000
DTEND;TZID=America/New_York:20260330T160000
DTSTAMP:20260422T053850
CREATED:20260331T161001Z
LAST-MODIFIED:20260331T161001Z
UID:2422-1774882800-1774886400@arni-institute.org
SUMMARY:Speaker Josue Ortega Caro: ARNI Frontier Models for Neuroscience and Behavior Working Group
DESCRIPTION:Time: 30th March. 3pm EST\n\nTitle: Large scale models for spatiotemporal data.\nSpeaker: Josue Ortega Caro https://josueortc.github.io/\nAbstract:  Spatiotemporal and multimodal datasets contain structured variability distributed across space\, time\, and measurement modality\, motivating modeling approaches that can learn representations directly from large-scale data. Inspired by video foundational models\, we study how the masked autoencoder training objective can learn shared structure across heterogeneous observations while preserving modality-specific information\, and how training these models requires multiple engineering methods for scaling. Furthermore\, we show that self-attention supports the emergence of interpretable structure by decomposing them based on the variability across samples. These results suggest that large-scale self-supervised learning provides a unified approach for modeling high-dimensional dynamical systems while enabling interpretation of the learned representations.
URL:https://arni-institute.org/event/speaker-josue-ortega-caro-arni-frontier-models-for-neuroscience-and-behavior-working-group/
LOCATION:Virtual
END:VEVENT
END:VCALENDAR